Workbook

Sheet Import Sheet
A1: Item Number | B1: Item Description | C1: Category | D1: Account Set Code | E1: Default Price List | F1: Commodity number | G1: COMMENT1 | H1: COMMENT2 | I1: COMMENT3 | J1: COMMENT4 | K1: Unit of Measure | L1: Stocking Unit of Measure | M1: Brand 1 | N1: Brand 2 | O1: Brand 3 | P1: Brand 4 | Q1: Brand 5 | R1: COMGRP | S1: MODEL | T1: Location | U1: Vendor Number | V1: Vendor Item Number | W1: Vendor Currency | X1: Price List Code | Y1: Base Price
A2: ='Prep Sheet'!G2 -> 0- | B2: ='Prep Sheet'!H2 -> 0 | C2: ='Prep Sheet'!M2 -> 0 | D2: ='Prep Sheet'!N2 -> MA | E2: ='Prep Sheet'!O2 -> 0 | F2: ='Prep Sheet'!D2 -> 0 | G2: ='Prep Sheet'!I2 | H2: ='Prep Sheet'!J2 | I2: ='Prep Sheet'!K2 | J2: ='Prep Sheet'!L2 | K2: ='Prep Sheet'!P2 -> EA | L2: ='Prep Sheet'!Q2 -> YES | M2: ='Prep Sheet'!R2 -> 1 | N2: ='Prep Sheet'!S2 -> N/A | O2: ='Prep Sheet'!T2 -> N/A | P2: ='Prep Sheet'!U2 -> N/A | Q2: ='Prep Sheet'!V2 -> 0 | R2: ='Prep Sheet'!W2 -> 0 | ... Y2: ='Prep Sheet'!AD2 -> 0
A3: ='Prep Sheet'!G3 -> 0- | B3: ='Prep Sheet'!H3 -> 0 | C3: ='Prep Sheet'!M3 -> 0 | D3: ='Prep Sheet'!N3 -> MA | E3: ='Prep Sheet'!O3 -> 0 | F3: ='Prep Sheet'!D3 -> 0 | G3: ='Prep Sheet'!I3 | H3: ='Prep Sheet'!J3 | I3: ='Prep Sheet'!K3 | J3: ='Prep Sheet'!L3 | K3: ='Prep Sheet'!P3 -> EA | L3: ='Prep Sheet'!Q3 -> YES | M3: ='Prep Sheet'!R3 -> 1 | N3: ='Prep Sheet'!S3 -> N/A | O3: ='Prep Sheet'!T3 -> N/A | P3: ='Prep Sheet'!U3 -> N/A | Q3: ='Prep Sheet'!V3 -> 0 | R3: ='Prep Sheet'!W3 -> 0 | ... Y3: ='Prep Sheet'!AD3 -> 0
A4: ='Prep Sheet'!G4 -> 0- | B4: ='Prep Sheet'!H4 -> 0 | C4: ='Prep Sheet'!M4 -> 0 | D4: ='Prep Sheet'!N4 -> MA | E4: ='Prep Sheet'!O4 -> 0 | F4: ='Prep Sheet'!D4 -> 0 | G4: ='Prep Sheet'!I4 | H4: ='Prep Sheet'!J4 | I4: ='Prep Sheet'!K4 | J4: ='Prep Sheet'!L4 | K4: ='Prep Sheet'!P4 -> EA | L4: ='Prep Sheet'!Q4 -> YES | M4: ='Prep Sheet'!R4 -> 1 | N4: ='Prep Sheet'!S4 -> N/A | O4: ='Prep Sheet'!T4 -> N/A | P4: ='Prep Sheet'!U4 -> N/A | Q4: ='Prep Sheet'!V4 -> 0 | R4: ='Prep Sheet'!W4 -> 0 | ... Y4: ='Prep Sheet'!AD4 -> 0
A5: ='Prep Sheet'!G5 -> 0- | B5: ='Prep Sheet'!H5 -> 0 | C5: ='Prep Sheet'!M5 -> 0 | D5: ='Prep Sheet'!N5 -> MA | E5: ='Prep Sheet'!O5 -> 0 | F5: ='Prep Sheet'!D5 -> 0 | G5: ='Prep Sheet'!I5 | H5: ='Prep Sheet'!J5 | I5: ='Prep Sheet'!K5 | J5: ='Prep Sheet'!L5 | K5: ='Prep Sheet'!P5 -> EA | L5: ='Prep Sheet'!Q5 -> YES | M5: ='Prep Sheet'!R5 -> 1 | N5: ='Prep Sheet'!S5 -> N/A | O5: ='Prep Sheet'!T5 -> N/A | P5: ='Prep Sheet'!U5 -> N/A | Q5: ='Prep Sheet'!V5 -> 0 | R5: ='Prep Sheet'!W5 -> 0 | ... Y5: ='Prep Sheet'!AD5 -> 0
A6: ='Prep Sheet'!G6 -> 0- | B6: ='Prep Sheet'!H6 -> 0 | C6: ='Prep Sheet'!M6 -> 0 | D6: ='Prep Sheet'!N6 -> MA | E6: ='Prep Sheet'!O6 -> 0 | F6: ='Prep Sheet'!D6 -> 0 | G6: ='Prep Sheet'!I6 | H6: ='Prep Sheet'!J6 | I6: ='Prep Sheet'!K6 | J6: ='Prep Sheet'!L6 | K6: ='Prep Sheet'!P6 -> EA | L6: ='Prep Sheet'!Q6 -> YES | M6: ='Prep Sheet'!R6 -> 1 | N6: ='Prep Sheet'!S6 -> N/A | O6: ='Prep Sheet'!T6 -> N/A | P6: ='Prep Sheet'!U6 -> N/A | Q6: ='Prep Sheet'!V6 -> 0 | R6: ='Prep Sheet'!W6 -> 0 | ... Y6: ='Prep Sheet'!AD6 -> 0
A7: ='Prep Sheet'!G7 -> 0- | B7: ='Prep Sheet'!H7 -> 0 | C7: ='Prep Sheet'!M7 -> 0 | D7: ='Prep Sheet'!N7 -> MA | E7: ='Prep Sheet'!O7 -> 0 | F7: ='Prep Sheet'!D7 -> 0 | G7: ='Prep Sheet'!I7 | H7: ='Prep Sheet'!J7 | I7: ='Prep Sheet'!K7 | J7: ='Prep Sheet'!L7 | K7: ='Prep Sheet'!P7 -> EA | L7: ='Prep Sheet'!Q7 -> YES | M7: ='Prep Sheet'!R7 -> 1 | N7: ='Prep Sheet'!S7 -> N/A | O7: ='Prep Sheet'!T7 -> N/A | P7: ='Prep Sheet'!U7 -> N/A | Q7: ='Prep Sheet'!V7 -> 0 | R7: ='Prep Sheet'!W7 -> 0 | ... Y7: ='Prep Sheet'!AD7 -> 0
A8: ='Prep Sheet'!G8 -> 0- | B8: ='Prep Sheet'!H8 -> 0 | C8: ='Prep Sheet'!M8 -> 0 | D8: ='Prep Sheet'!N8 -> MA | E8: ='Prep Sheet'!O8 -> 0 | F8: ='Prep Sheet'!D8 -> 0 | G8: ='Prep Sheet'!I8 | H8: ='Prep Sheet'!J8 | I8: ='Prep Sheet'!K8 | J8: ='Prep Sheet'!L8 | K8: ='Prep Sheet'!P8 -> EA | L8: ='Prep Sheet'!Q8 -> YES | M8: ='Prep Sheet'!R8 -> 1 | N8: ='Prep Sheet'!S8 -> N/A | O8: ='Prep Sheet'!T8 -> N/A | P8: ='Prep Sheet'!U8 -> N/A | Q8: ='Prep Sheet'!V8 -> 0 | R8: ='Prep Sheet'!W8 -> 0 | ... Y8: ='Prep Sheet'!AD8 -> 0
A9: ='Prep Sheet'!G9 -> 0- | B9: ='Prep Sheet'!H9 -> 0 | C9: ='Prep Sheet'!M9 -> 0 | D9: ='Prep Sheet'!N9 -> MA | E9: ='Prep Sheet'!O9 -> 0 | F9: ='Prep Sheet'!D9 -> 0 | G9: ='Prep Sheet'!I9 | H9: ='Prep Sheet'!J9 | I9: ='Prep Sheet'!K9 | J9: ='Prep Sheet'!L9 | K9: ='Prep Sheet'!P9 -> EA | L9: ='Prep Sheet'!Q9 -> YES | M9: ='Prep Sheet'!R9 -> 1 | N9: ='Prep Sheet'!S9 -> N/A | O9: ='Prep Sheet'!T9 -> N/A | P9: ='Prep Sheet'!U9 -> N/A | Q9: ='Prep Sheet'!V9 -> 0 | R9: ='Prep Sheet'!W9 -> 0 | ... Y9: ='Prep Sheet'!AD9 -> 0
A10: ='Prep Sheet'!G10 -> 0- | B10: ='Prep Sheet'!H10 -> 0 | C10: ='Prep Sheet'!M10 -> 0 | D10: ='Prep Sheet'!N10 -> MA | E10: ='Prep Sheet'!O10 -> 0 | F10: ='Prep Sheet'!D10 -> 0 | G10: ='Prep Sheet'!I10 | H10: ='Prep Sheet'!J10 | I10: ='Prep Sheet'!K10 | J10: ='Prep Sheet'!L10 | K10: ='Prep Sheet'!P10 -> EA | L10: ='Prep Sheet'!Q10 -> YES | M10: ='Prep Sheet'!R10 -> 1 | N10: ='Prep Sheet'!S10 -> N/A | O10: ='Prep Sheet'!T10 -> N/A | P10: ='Prep Sheet'!U10 -> N/A | Q10: ='Prep Sheet'!V10 -> 0 | R10: ='Prep Sheet'!W10 -> 0 | ... Y10: ='Prep Sheet'!AD10 -> 0
A11: ='Prep Sheet'!G11 -> 0- | B11: ='Prep Sheet'!H11 -> 0 | C11: ='Prep Sheet'!M11 -> 0 | D11: ='Prep Sheet'!N11 -> MA | E11: ='Prep Sheet'!O11 -> 0 | F11: ='Prep Sheet'!D11 -> 0 | G11: ='Prep Sheet'!I11 | H11: ='Prep Sheet'!J11 | I11: ='Prep Sheet'!K11 | J11: ='Prep Sheet'!L11 | K11: ='Prep Sheet'!P11 -> EA | L11: ='Prep Sheet'!Q11 -> YES | M11: ='Prep Sheet'!R11 -> 1 | N11: ='Prep Sheet'!S11 -> N/A | O11: ='Prep Sheet'!T11 -> N/A | P11: ='Prep Sheet'!U11 -> N/A | Q11: ='Prep Sheet'!V11 -> 0 | R11: ='Prep Sheet'!W11 -> 0 | ... Y11: ='Prep Sheet'!AD11 -> 0
A12: ='Prep Sheet'!G12 -> 0- | B12: ='Prep Sheet'!H12 -> 0 | C12: ='Prep Sheet'!M12 -> 0 | D12: ='Prep Sheet'!N12 -> MA | E12: ='Prep Sheet'!O12 -> 0 | F12: ='Prep Sheet'!D12 -> 0 | G12: ='Prep Sheet'!I12 | H12: ='Prep Sheet'!J12 | I12: ='Prep Sheet'!K12 | J12: ='Prep Sheet'!L12 | K12: ='Prep Sheet'!P12 -> EA | L12: ='Prep Sheet'!Q12 -> YES | M12: ='Prep Sheet'!R12 -> 1 | N12: ='Prep Sheet'!S12 -> N/A | O12: ='Prep Sheet'!T12 -> N/A | P12: ='Prep Sheet'!U12 -> N/A | Q12: ='Prep Sheet'!V12 -> 0 | R12: ='Prep Sheet'!W12 -> 0 | ... Y12: ='Prep Sheet'!AD12 -> 0
A13: ='Prep Sheet'!G13 -> 0- | B13: ='Prep Sheet'!H13 -> 0 | C13: ='Prep Sheet'!M13 -> 0 | D13: ='Prep Sheet'!N13 -> MA | E13: ='Prep Sheet'!O13 -> 0 | F13: ='Prep Sheet'!D13 -> 0 | G13: ='Prep Sheet'!I13 | H13: ='Prep Sheet'!J13 | I13: ='Prep Sheet'!K13 | J13: ='Prep Sheet'!L13 | K13: ='Prep Sheet'!P13 -> EA | L13: ='Prep Sheet'!Q13 -> YES | M13: ='Prep Sheet'!R13 -> 1 | N13: ='Prep Sheet'!S13 -> N/A | O13: ='Prep Sheet'!T13 -> N/A | P13: ='Prep Sheet'!U13 -> N/A | Q13: ='Prep Sheet'!V13 -> 0 | R13: ='Prep Sheet'!W13 -> 0 | ... Y13: ='Prep Sheet'!AD13 -> 0
... A535: ='Prep Sheet'!G535 -> 0- | B535: ='Prep Sheet'!H535 -> 0 | C535: ='Prep Sheet'!M535 -> 0 | D535: ='Prep Sheet'!N535 -> MA | E535: ='Prep Sheet'!O535 -> 0 | F535: ='Prep Sheet'!D535 -> 0 | G535: ='Prep Sheet'!I535 | H535: ='Prep Sheet'!J535 | I535: ='Prep Sheet'!K535 | J535: ='Prep Sheet'!L535 | K535: ='Prep Sheet'!P535 -> EA | L535: ='Prep Sheet'!Q535 -> YES | M535: ='Prep Sheet'!R535 -> 1 | N535: ='Prep Sheet'!S535 -> N/A | O535: ='Prep Sheet'!T535 -> N/A | P535: ='Prep Sheet'!U535 -> N/A | Q535: ='Prep Sheet'!V535 -> 0 | R535: ='Prep Sheet'!W535 -> 0 | ... Y535: ='Prep Sheet'!AD535 -> 0

Sheet Prep Sheet
A1: Brand Type | B1: Pre-Fix | C1: Mandatory dash for accpac | D1: SKU | E1: Formula Column - DO NOT EDIT | F1: Formula Column - DO NOT EDIT | G1: FORMULA FOR ACCPAC CODE - DO NOT EDIT | H1: Full Description of Code | I1: COMMENT1 (1-80) - Overspill of Description for CRM Quote | J1: COMMENT2 (81-160) - Overspill of Description for CRM Quote | K1: COMMENT3 (161-240) - Overspill of Description for CRM Quote | L1: COMMENT4 (241-320) - Overspill of Description for CRM Quote | M1: Category | N1: Account Set Code - MA (Moving Average) or USDF (User Defined for LOT codes) | O1: Default Price List | P1: Unit of Measure | Q1: Stocking Unit of Measure | R1: Brand 1 | S1: Brand 2 -Strictly for First Shop Items - if it is a FS item then TYPE IN THE BRAND CODE if not then TYPE IN N/A | T1: Brand 3 - Strictly First Shop (If YES then add Manufacturer) | U1: Brand 4 | V1: Brand 5 - Income Statement | W1: COMGRP | X1: MODEL - Eitherr B2B or Stock or N/A | Y1: Location | Z1: Vendor Number | AA1: Vendor Item Number - matching the Supplier code | AB1: Vendor Currency | AC1: Price List Code | AD1: Base Price | AE1: SKU Caracter count MAX 18 + 2 for Prefix
B2: =_xlfn.XLOOKUP(A2,'CAT LIST'!$A:$A,'CAT LIST'!B:B,"") -> 0 | C2: - | E2: =SUBSTITUTE(D2,"-","") | F2: =SUBSTITUTE(E2," ","") | G2: =CONCATENATE(B2,C2,F2) -> 0- | I2: =MID(H2,1,80) | J2: =MID(H2,81,160) | K2: =MID(H2,161,240) | L2: =MID(H2,241,320) | M2: =_xlfn.XLOOKUP(A2,'CAT LIST'!$A:$A,'CAT LIST'!C:C,"") -> 0 | N2: MA | O2: =_xlfn.XLOOKUP(A2,'CAT LIST'!$A:$A,'CAT LIST'!F:F,"") -> 0 | P2: EA | Q2: YES | R2: 1 | S2: N/A | T2: N/A | U2: N/A | V2: =_xlfn.XLOOKUP(A2,'CAT LIST'!$A:$A,'CAT LIST'!D:D,"") -> 0 | W2: =_xlfn.XLOOKUP(A2,'CAT LIST'!$A:$A,'CAT LIST'!E:E,"") -> 0 | X2: B | Y2: STK | Z2: =_xlfn.XLOOKUP(A2,'CAT LIST'!$A:$A,'CAT LIST'!G:G,"") -> 0 | AA2: =D2 -> 0 | AB2: =_xlfn.XLOOKUP(A2,'CAT LIST'!$A:$A,'CAT LIST'!H:H,"") -> 0 | AC2: =O2 -> 0 | AD2: 0 | AE2: =LEN(D2) -> 0
B3: =_xlfn.XLOOKUP(A3,'CAT LIST'!$A:$A,'CAT LIST'!B:B,"") -> 0 | C3: - | E3: =SUBSTITUTE(D3,"-","") | F3: =SUBSTITUTE(E3," ","") | G3: =CONCATENATE(B3,C3,F3) -> 0- | I3: =MID(H3,1,80) | J3: =MID(H3,81,160) | K3: =MID(H3,161,240) | L3: =MID(H3,241,320) | M3: =_xlfn.XLOOKUP(A3,'CAT LIST'!$A:$A,'CAT LIST'!C:C,"") -> 0 | N3: MA | O3: =_xlfn.XLOOKUP(A3,'CAT LIST'!$A:$A,'CAT LIST'!F:F,"") -> 0 | P3: EA | Q3: YES | R3: 1 | S3: N/A | T3: N/A | U3: N/A | V3: =_xlfn.XLOOKUP(A3,'CAT LIST'!$A:$A,'CAT LIST'!D:D,"") -> 0 | W3: =_xlfn.XLOOKUP(A3,'CAT LIST'!$A:$A,'CAT LIST'!E:E,"") -> 0 | X3: B | Y3: STK | Z3: =_xlfn.XLOOKUP(A3,'CAT LIST'!$A:$A,'CAT LIST'!G:G,"") -> 0 | AA3: =D3 -> 0 | AB3: =_xlfn.XLOOKUP(A3,'CAT LIST'!$A:$A,'CAT LIST'!H:H,"") -> 0 | AC3: =O3 -> 0 | AD3: 0 | AE3: =LEN(D3) -> 0
B4: =_xlfn.XLOOKUP(A4,'CAT LIST'!$A:$A,'CAT LIST'!B:B,"") -> 0 | C4: - | E4: =SUBSTITUTE(D4,"-","") | F4: =SUBSTITUTE(E4," ","") | G4: =CONCATENATE(B4,C4,F4) -> 0- | I4: =MID(H4,1,80) | J4: =MID(H4,81,160) | K4: =MID(H4,161,240) | L4: =MID(H4,241,320) | M4: =_xlfn.XLOOKUP(A4,'CAT LIST'!$A:$A,'CAT LIST'!C:C,"") -> 0 | N4: MA | O4: =_xlfn.XLOOKUP(A4,'CAT LIST'!$A:$A,'CAT LIST'!F:F,"") -> 0 | P4: EA | Q4: YES | R4: 1 | S4: N/A | T4: N/A | U4: N/A | V4: =_xlfn.XLOOKUP(A4,'CAT LIST'!$A:$A,'CAT LIST'!D:D,"") -> 0 | W4: =_xlfn.XLOOKUP(A4,'CAT LIST'!$A:$A,'CAT LIST'!E:E,"") -> 0 | X4: B | Y4: STK | Z4: =_xlfn.XLOOKUP(A4,'CAT LIST'!$A:$A,'CAT LIST'!G:G,"") -> 0 | AA4: =D4 -> 0 | AB4: =_xlfn.XLOOKUP(A4,'CAT LIST'!$A:$A,'CAT LIST'!H:H,"") -> 0 | AC4: =O4 -> 0 | AD4: 0 | AE4: =LEN(D4) -> 0
B5: =_xlfn.XLOOKUP(A5,'CAT LIST'!$A:$A,'CAT LIST'!B:B,"") -> 0 | C5: - | E5: =SUBSTITUTE(D5,"-","") | F5: =SUBSTITUTE(E5," ","") | G5: =CONCATENATE(B5,C5,F5) -> 0- | I5: =MID(H5,1,80) | J5: =MID(H5,81,160) | K5: =MID(H5,161,240) | L5: =MID(H5,241,320) | M5: =_xlfn.XLOOKUP(A5,'CAT LIST'!$A:$A,'CAT LIST'!C:C,"") -> 0 | N5: MA | O5: =_xlfn.XLOOKUP(A5,'CAT LIST'!$A:$A,'CAT LIST'!F:F,"") -> 0 | P5: EA | Q5: YES | R5: 1 | S5: N/A | T5: N/A | U5: N/A | V5: =_xlfn.XLOOKUP(A5,'CAT LIST'!$A:$A,'CAT LIST'!D:D,"") -> 0 | W5: =_xlfn.XLOOKUP(A5,'CAT LIST'!$A:$A,'CAT LIST'!E:E,"") -> 0 | X5: B | Y5: STK | Z5: =_xlfn.XLOOKUP(A5,'CAT LIST'!$A:$A,'CAT LIST'!G:G,"") -> 0 | AA5: =D5 -> 0 | AB5: =_xlfn.XLOOKUP(A5,'CAT LIST'!$A:$A,'CAT LIST'!H:H,"") -> 0 | AC5: =O5 -> 0 | AD5: 0 | AE5: =LEN(D5) -> 0
B6: =_xlfn.XLOOKUP(A6,'CAT LIST'!$A:$A,'CAT LIST'!B:B,"") -> 0 | C6: - | E6: =SUBSTITUTE(D6,"-","") | F6: =SUBSTITUTE(E6," ","") | G6: =CONCATENATE(B6,C6,F6) -> 0- | I6: =MID(H6,1,80) | J6: =MID(H6,81,160) | K6: =MID(H6,161,240) | L6: =MID(H6,241,320) | M6: =_xlfn.XLOOKUP(A6,'CAT LIST'!$A:$A,'CAT LIST'!C:C,"") -> 0 | N6: MA | O6: =_xlfn.XLOOKUP(A6,'CAT LIST'!$A:$A,'CAT LIST'!F:F,"") -> 0 | P6: EA | Q6: YES | R6: 1 | S6: N/A | T6: N/A | U6: N/A | V6: =_xlfn.XLOOKUP(A6,'CAT LIST'!$A:$A,'CAT LIST'!D:D,"") -> 0 | W6: =_xlfn.XLOOKUP(A6,'CAT LIST'!$A:$A,'CAT LIST'!E:E,"") -> 0 | X6: B | Y6: STK | Z6: =_xlfn.XLOOKUP(A6,'CAT LIST'!$A:$A,'CAT LIST'!G:G,"") -> 0 | AA6: =D6 -> 0 | AB6: =_xlfn.XLOOKUP(A6,'CAT LIST'!$A:$A,'CAT LIST'!H:H,"") -> 0 | AC6: =O6 -> 0 | AD6: 0 | AE6: =LEN(D6) -> 0
B7: =_xlfn.XLOOKUP(A7,'CAT LIST'!$A:$A,'CAT LIST'!B:B,"") -> 0 | C7: - | E7: =SUBSTITUTE(D7,"-","") | F7: =SUBSTITUTE(E7," ","") | G7: =CONCATENATE(B7,C7,F7) -> 0- | I7: =MID(H7,1,80) | J7: =MID(H7,81,160) | K7: =MID(H7,161,240) | L7: =MID(H7,241,320) | M7: =_xlfn.XLOOKUP(A7,'CAT LIST'!$A:$A,'CAT LIST'!C:C,"") -> 0 | N7: MA | O7: =_xlfn.XLOOKUP(A7,'CAT LIST'!$A:$A,'CAT LIST'!F:F,"") -> 0 | P7: EA | Q7: YES | R7: 1 | S7: N/A | T7: N/A | U7: N/A | V7: =_xlfn.XLOOKUP(A7,'CAT LIST'!$A:$A,'CAT LIST'!D:D,"") -> 0 | W7: =_xlfn.XLOOKUP(A7,'CAT LIST'!$A:$A,'CAT LIST'!E:E,"") -> 0 | X7: B | Y7: STK | Z7: =_xlfn.XLOOKUP(A7,'CAT LIST'!$A:$A,'CAT LIST'!G:G,"") -> 0 | AA7: =D7 -> 0 | AB7: =_xlfn.XLOOKUP(A7,'CAT LIST'!$A:$A,'CAT LIST'!H:H,"") -> 0 | AC7: =O7 -> 0 | AD7: 0 | AE7: =LEN(D7) -> 0
B8: =_xlfn.XLOOKUP(A8,'CAT LIST'!$A:$A,'CAT LIST'!B:B,"") -> 0 | C8: - | E8: =SUBSTITUTE(D8,"-","") | F8: =SUBSTITUTE(E8," ","") | G8: =CONCATENATE(B8,C8,F8) -> 0- | I8: =MID(H8,1,80) | J8: =MID(H8,81,160) | K8: =MID(H8,161,240) | L8: =MID(H8,241,320) | M8: =_xlfn.XLOOKUP(A8,'CAT LIST'!$A:$A,'CAT LIST'!C:C,"") -> 0 | N8: MA | O8: =_xlfn.XLOOKUP(A8,'CAT LIST'!$A:$A,'CAT LIST'!F:F,"") -> 0 | P8: EA | Q8: YES | R8: 1 | S8: N/A | T8: N/A | U8: N/A | V8: =_xlfn.XLOOKUP(A8,'CAT LIST'!$A:$A,'CAT LIST'!D:D,"") -> 0 | W8: =_xlfn.XLOOKUP(A8,'CAT LIST'!$A:$A,'CAT LIST'!E:E,"") -> 0 | X8: B | Y8: STK | Z8: =_xlfn.XLOOKUP(A8,'CAT LIST'!$A:$A,'CAT LIST'!G:G,"") -> 0 | AA8: =D8 -> 0 | AB8: =_xlfn.XLOOKUP(A8,'CAT LIST'!$A:$A,'CAT LIST'!H:H,"") -> 0 | AC8: =O8 -> 0 | AD8: 0 | AE8: =LEN(D8) -> 0
B9: =_xlfn.XLOOKUP(A9,'CAT LIST'!$A:$A,'CAT LIST'!B:B,"") -> 0 | C9: - | E9: =SUBSTITUTE(D9,"-","") | F9: =SUBSTITUTE(E9," ","") | G9: =CONCATENATE(B9,C9,F9) -> 0- | I9: =MID(H9,1,80) | J9: =MID(H9,81,160) | K9: =MID(H9,161,240) | L9: =MID(H9,241,320) | M9: =_xlfn.XLOOKUP(A9,'CAT LIST'!$A:$A,'CAT LIST'!C:C,"") -> 0 | N9: MA | O9: =_xlfn.XLOOKUP(A9,'CAT LIST'!$A:$A,'CAT LIST'!F:F,"") -> 0 | P9: EA | Q9: YES | R9: 1 | S9: N/A | T9: N/A | U9: N/A | V9: =_xlfn.XLOOKUP(A9,'CAT LIST'!$A:$A,'CAT LIST'!D:D,"") -> 0 | W9: =_xlfn.XLOOKUP(A9,'CAT LIST'!$A:$A,'CAT LIST'!E:E,"") -> 0 | X9: B | Y9: STK | Z9: =_xlfn.XLOOKUP(A9,'CAT LIST'!$A:$A,'CAT LIST'!G:G,"") -> 0 | AA9: =D9 -> 0 | AB9: =_xlfn.XLOOKUP(A9,'CAT LIST'!$A:$A,'CAT LIST'!H:H,"") -> 0 | AC9: =O9 -> 0 | AD9: 0 | AE9: =LEN(D9) -> 0
B10: =_xlfn.XLOOKUP(A10,'CAT LIST'!$A:$A,'CAT LIST'!B:B,"") -> 0 | C10: - | E10: =SUBSTITUTE(D10,"-","") | F10: =SUBSTITUTE(E10," ","") | G10: =CONCATENATE(B10,C10,F10) -> 0- | I10: =MID(H10,1,80) | J10: =MID(H10,81,160) | K10: =MID(H10,161,240) | L10: =MID(H10,241,320) | M10: =_xlfn.XLOOKUP(A10,'CAT LIST'!$A:$A,'CAT LIST'!C:C,"") -> 0 | N10: MA | O10: =_xlfn.XLOOKUP(A10,'CAT LIST'!$A:$A,'CAT LIST'!F:F,"") -> 0 | P10: EA | Q10: YES | R10: 1 | S10: N/A | T10: N/A | U10: N/A | V10: =_xlfn.XLOOKUP(A10,'CAT LIST'!$A:$A,'CAT LIST'!D:D,"") -> 0 | W10: =_xlfn.XLOOKUP(A10,'CAT LIST'!$A:$A,'CAT LIST'!E:E,"") -> 0 | X10: B | Y10: STK | Z10: =_xlfn.XLOOKUP(A10,'CAT LIST'!$A:$A,'CAT LIST'!G:G,"") -> 0 | AA10: =D10 -> 0 | AB10: =_xlfn.XLOOKUP(A10,'CAT LIST'!$A:$A,'CAT LIST'!H:H,"") -> 0 | AC10: =O10 -> 0 | AD10: 0 | AE10: =LEN(D10) -> 0
B11: =_xlfn.XLOOKUP(A11,'CAT LIST'!$A:$A,'CAT LIST'!B:B,"") -> 0 | C11: - | E11: =SUBSTITUTE(D11,"-","") | F11: =SUBSTITUTE(E11," ","") | G11: =CONCATENATE(B11,C11,F11) -> 0- | I11: =MID(H11,1,80) | J11: =MID(H11,81,160) | K11: =MID(H11,161,240) | L11: =MID(H11,241,320) | M11: =_xlfn.XLOOKUP(A11,'CAT LIST'!$A:$A,'CAT LIST'!C:C,"") -> 0 | N11: MA | O11: =_xlfn.XLOOKUP(A11,'CAT LIST'!$A:$A,'CAT LIST'!F:F,"") -> 0 | P11: EA | Q11: YES | R11: 1 | S11: N/A | T11: N/A | U11: N/A | V11: =_xlfn.XLOOKUP(A11,'CAT LIST'!$A:$A,'CAT LIST'!D:D,"") -> 0 | W11: =_xlfn.XLOOKUP(A11,'CAT LIST'!$A:$A,'CAT LIST'!E:E,"") -> 0 | X11: B | Y11: STK | Z11: =_xlfn.XLOOKUP(A11,'CAT LIST'!$A:$A,'CAT LIST'!G:G,"") -> 0 | AA11: =D11 -> 0 | AB11: =_xlfn.XLOOKUP(A11,'CAT LIST'!$A:$A,'CAT LIST'!H:H,"") -> 0 | AC11: =O11 -> 0 | AD11: 0 | AE11: =LEN(D11) -> 0
B12: =_xlfn.XLOOKUP(A12,'CAT LIST'!$A:$A,'CAT LIST'!B:B,"") -> 0 | C12: - | E12: =SUBSTITUTE(D12,"-","") | F12: =SUBSTITUTE(E12," ","") | G12: =CONCATENATE(B12,C12,F12) -> 0- | I12: =MID(H12,1,80) | J12: =MID(H12,81,160) | K12: =MID(H12,161,240) | L12: =MID(H12,241,320) | M12: =_xlfn.XLOOKUP(A12,'CAT LIST'!$A:$A,'CAT LIST'!C:C,"") -> 0 | N12: MA | O12: =_xlfn.XLOOKUP(A12,'CAT LIST'!$A:$A,'CAT LIST'!F:F,"") -> 0 | P12: EA | Q12: YES | R12: 1 | S12: N/A | T12: N/A | U12: N/A | V12: =_xlfn.XLOOKUP(A12,'CAT LIST'!$A:$A,'CAT LIST'!D:D,"") -> 0 | W12: =_xlfn.XLOOKUP(A12,'CAT LIST'!$A:$A,'CAT LIST'!E:E,"") -> 0 | X12: B | Y12: STK | Z12: =_xlfn.XLOOKUP(A12,'CAT LIST'!$A:$A,'CAT LIST'!G:G,"") -> 0 | AA12: =D12 -> 0 | AB12: =_xlfn.XLOOKUP(A12,'CAT LIST'!$A:$A,'CAT LIST'!H:H,"") -> 0 | AC12: =O12 -> 0 | AD12: 0 | AE12: =LEN(D12) -> 0
B13: =_xlfn.XLOOKUP(A13,'CAT LIST'!$A:$A,'CAT LIST'!B:B,"") -> 0 | C13: - | E13: =SUBSTITUTE(D13,"-","") | F13: =SUBSTITUTE(E13," ","") | G13: =CONCATENATE(B13,C13,F13) -> 0- | I13: =MID(H13,1,80) | J13: =MID(H13,81,160) | K13: =MID(H13,161,240) | L13: =MID(H13,241,320) | M13: =_xlfn.XLOOKUP(A13,'CAT LIST'!$A:$A,'CAT LIST'!C:C,"") -> 0 | N13: MA | O13: =_xlfn.XLOOKUP(A13,'CAT LIST'!$A:$A,'CAT LIST'!F:F,"") -> 0 | P13: EA | Q13: YES | R13: 1 | S13: N/A | T13: N/A | U13: N/A | V13: =_xlfn.XLOOKUP(A13,'CAT LIST'!$A:$A,'CAT LIST'!D:D,"") -> 0 | W13: =_xlfn.XLOOKUP(A13,'CAT LIST'!$A:$A,'CAT LIST'!E:E,"") -> 0 | X13: B | Y13: STK | Z13: =_xlfn.XLOOKUP(A13,'CAT LIST'!$A:$A,'CAT LIST'!G:G,"") -> 0 | AA13: =D13 -> 0 | AB13: =_xlfn.XLOOKUP(A13,'CAT LIST'!$A:$A,'CAT LIST'!H:H,"") -> 0 | AC13: =O13 -> 0 | AD13: 0 | AE13: =LEN(D13) -> 0
... B580: =_xlfn.XLOOKUP(A580,'CAT LIST'!$A:$A,'CAT LIST'!B:B,"") -> 0 | C580: - | E580: =SUBSTITUTE(D580,"-","") | F580: =SUBSTITUTE(E580," ","") | G580: =CONCATENATE(B580,C580,F580) -> 0- | I580: =MID(H580,1,80) | J580: =MID(H580,81,160) | K580: =MID(H580,161,240) | L580: =MID(H580,241,320) | M580: =_xlfn.XLOOKUP(A580,'CAT LIST'!$A:$A,'CAT LIST'!C:C,"") -> 0 | N580: MA | O580: =_xlfn.XLOOKUP(A580,'CAT LIST'!$A:$A,'CAT LIST'!F:F,"") -> 0 | P580: EA | Q580: YES | R580: 1 | S580: N/A | T580: N/A | U580: N/A | V580: =_xlfn.XLOOKUP(A580,'CAT LIST'!$A:$A,'CAT LIST'!D:D,"") -> 0 | W580: =_xlfn.XLOOKUP(A580,'CAT LIST'!$A:$A,'CAT LIST'!E:E,"") -> 0 | X580: B | Y580: STK | Z580: =_xlfn.XLOOKUP(A580,'CAT LIST'!$A:$A,'CAT LIST'!G:G,"") -> 0 | AA580: =D580 -> 0 | AB580: =_xlfn.XLOOKUP(A580,'CAT LIST'!$A:$A,'CAT LIST'!H:H,"") -> 0 | AC580: =O580 -> 0 | AD580: 0 | AE580: =LEN(D580) -> 0
B581: =_xlfn.XLOOKUP(A581,'CAT LIST'!$A:$A,'CAT LIST'!B:B,"") -> 0 | C581: - | E581: =SUBSTITUTE(D581,"-","") | F581: =SUBSTITUTE(E581," ","") | G581: =CONCATENATE(B581,C581,F581) -> 0- | J581: =MID(H581,81,160) | K581: =MID(H581,161,240) | L581: =MID(H581,241,80) | M581: =_xlfn.XLOOKUP(A581,'CAT LIST'!$A:$A,'CAT LIST'!C:C,"") -> 0 | N581: MA | O581: =_xlfn.XLOOKUP(A581,'CAT LIST'!$A:$A,'CAT LIST'!F:F,"") -> 0 | P581: EA | Q581: YES | R581: 1 | S581: N/A | T581: N/A | U581: N/A | V581: =_xlfn.XLOOKUP(A581,'CAT LIST'!$A:$A,'CAT LIST'!D:D,"") -> 0 | W581: =_xlfn.XLOOKUP(A581,'CAT LIST'!$A:$A,'CAT LIST'!E:E,"") -> 0 | X581: B | Y581: STK | Z581: =_xlfn.XLOOKUP(A581,'CAT LIST'!$A:$A,'CAT LIST'!G:G,"") -> 0 | AA581: =D581 -> 0 | AB581: =_xlfn.XLOOKUP(A581,'CAT LIST'!$A:$A,'CAT LIST'!H:H,"") -> 0 | AC581: =O581 -> 0 | AD581: 0 | AE581: =LEN(D581) -> 0
B582: =_xlfn.XLOOKUP(A582,'CAT LIST'!$A:$A,'CAT LIST'!B:B,"") -> 0 | J582: =MID(H582,81,160) | K582: =MID(H582,161,240) | L582: =MID(H582,241,80) | M582: =_xlfn.XLOOKUP(A582,'CAT LIST'!$A:$A,'CAT LIST'!C:C,"") -> 0 | N582: MA | O582: =_xlfn.XLOOKUP(A582,'CAT LIST'!$A:$A,'CAT LIST'!F:F,"") -> 0 | V582: =_xlfn.XLOOKUP(A582,'CAT LIST'!$A:$A,'CAT LIST'!D:D,"") -> 0 | W582: =_xlfn.XLOOKUP(A582,'CAT LIST'!$A:$A,'CAT LIST'!E:E,"") -> 0 | Z582: =_xlfn.XLOOKUP(A582,'CAT LIST'!$A:$A,'CAT LIST'!G:G,"") -> 0 | AA582: =D582 -> 0 | AB582: =_xlfn.XLOOKUP(A582,'CAT LIST'!$A:$A,'CAT LIST'!H:H,"") -> 0 | AE582: =LEN(D582) -> 0

Sheet CAT LIST
A1: Brand Type | B1: Pre-fix | C1: CAT | D1: Prod per Brand | E1: Comm Group | F1: Pricelist | G1: Vendor Number | H1: Vendor Currency
A2: NW HUAWEI RENEWALS | B2: 5H | C2: H2B | D2: 3311 | E2: I72 | F2: HWD | G2: HUAWEIEBGEUR | H2: EUR
A3: DC HUAWEI RENEWALS | B3: 6H | C3: HNS | D3: 3001 | E3: I73 | F3: HWD | G3: HUAWEIEBGEUR | H3: EUR
