Workbook

Sheet Performance Factors 
F1: My Performance Contract
A3: Employee Name | I3: Manager
A4: Employee Number | I4: Employee Number
A5: Job Title | I5: Job Title
A6: Business Area | I6: Business Area
A8: Section A
H9: Midyear Rating | L9: Final Year Rating
G10: Weighting | H10: Self | J10: Agreed rating | L10: Self | N10: Agreed rating
A11: 1 | B11: Job Knowledge & Application | G11: 0.2 | H11: 1 | J11: 2
B12: Competent in required job skills, is knowledgeable of the duties, methods, equipment and procedures required by the job. Displays understanding of how job relates to others, able to perform a wide variety of job-related tasks. | H12: Comments
H13: Enter your comments about the employee here. Your comments should reflect the accomplishments / barriers /general comments regarding the Key Performance Indicator (KPI)
H19: Midyear Rating | L19: Final Year Rating
G20: Weighting | H20: Self | J20: Agreed rating | L20: Self | N20: Agreed rating
A21: 2 | B21: Quality of Work
B22: Completes assignments in a thorough and accurate manner, produces quality work and achieves results under established quality standards. | H22: Comments
H23: Enter your comments about the employee here. Your comments should reflect the accomplishments / barriers /general comments regarding the Key Performance Indicator (KPI)
H29: Midyear Rating | L29: Final Year Rating
G30: Weighting | H30: Self | J30: Agreed rating | L30: Self | N30: Agreed rating
A31: 3 | B31: Initiative
B32: Takes iniative and demonstrates persistence and resiliance in the persuit of assigned performance goals. | H32: Comments
H33: Enter your comments about the employee here. Your comments should reflect the accomplishments / barriers /general comments regarding the Key Performance Indicator (KPI)
H39: Midyear Rating | L39: Final Year Rating
G40: Weighting | H40: Self | J40: Agreed rating | L40: Self | N40: Agreed rating
A41: 4 | B41: Teamwork
B42: Demonstrates ability to get along with others, communicates and acts as a team player. | H42: Comments
H43: Enter your comments about the employee here. Your comments should reflect the accomplishments / barriers /general comments regarding the Key Performance Indicator (KPI)
H49: Midyear Rating | L49: Final Year Rating
G50: Weighting | H50: Self | J50: Agreed rating | L50: Self | N50: Agreed rating
A51: 5 | B51: Service Quality
B52: Effectiveness in servicing both external and internal customers, responsive to customers and meets customer expectations. | H52: Comments
H53: Enter your comments about the employee here. Your comments should reflect the accomplishments / barriers /general comments regarding the Key Performance Indicator (KPI)
H59: Midyear Rating | L59: Final Year Rating
G60: Weighting | H60: Self | J60: Agreed rating | L60: Self | N60: Agreed rating
A61: 6 | B61: Communication
B62: Handles inernal and / or external communications effectively, expresses ideas clearly in oral and written form. | H62: Comments
H63: Enter your comments about the employee here. Your comments should reflect the accomplishments / barriers /general comments regarding the Key Performance Indicator (KPI)
A69: Section B: This sections is to be completed for employees in a supervisory / managerial position
H72: Midyear Rating | L72: Final Year Rating
G73: Weighting | H73: Self | J73: Agreed rating | L73: Self | N73: Agreed rating
A74: 1 | B74: Leadership and Direction
B75: Successfully coaches and mentors subordinates, clearly communicates goals for the work gorup, motivates others to perform well. | H75: Comments
H76: Enter your comments about the employee here. Your comments should reflect the accomplishments / barriers /general comments regarding the Key Performance Indicator (KPI)
H82: Midyear Rating | L82: Final Year Rating
G83: Weighting | H83: Self | J83: Agreed rating | L83: Self | N83: Agreed rating
A84: 2 | B84: Strategy
B85: Recommends, sets, implements, and communicates company and departmental goals / strategies and ability to move employees in that direction. | H85: Comments
H86: Enter your comments about the employee here. Your comments should reflect the accomplishments / barriers /general comments regarding the Key Performance Indicator (KPI)
H92: Midyear Rating | L92: Final Year Rating
G93: Weighting | H93: Self | J93: Agreed rating | L93: Self | N93: Agreed rating
A94: 3 | B94: Planning / Organisational Ability
B95: Sets goals and objectives for self and others, initiates and implements changes smoothly, plans and performs work systematically to meet stated objectives and priorities for self and subordinates. | H95: Comments
H96: Enter your comments about the employee here. Your comments should reflect the accomplishments / barriers /general comments regarding the Key Performance Indicator (KPI)
H102: Midyear Rating | L102: Final Year Rating
G103: Weighting | H103: Self | J103: Agreed rating | L103: Self | N103: Agreed rating
A104: 4 | B104: Judgement / Decision Making
B105: Makes timely decisions and actions based on sound reasoning and weighing of outcomes, effective handling of sensitive matters, exhibits sound and accurate judgement, includes appropriate people in decision making process. | H105: Comments
H106: Enter your comments about the employee here. Your comments should reflect the accomplishments / barriers /general comments regarding the Key Performance Indicator (KPI)
B112: Additional Employee Comments (Optional)
B121: Additional Manager Comments (Optional)

Sheet Performance Process
A1: My Performance Process

Sheet Annual Goals
B1: My Performance Contract & Review
A3: Employee Name
A4: Employee Number
A5: Job Title
A6: Business Area
A7: Manager Name
A9: Weighting: running total* | D9: =SUM(G12,G22,G32,G42,G52,G62,G72,G82) -> 0
A10: * Should add up to 100% | H10: Midyear Rating | J10: Final Year Rating
B11: Enter the goal category | G11: Weighting | H11: Self rating | I11: Agreed rating | J11: Self rating | K11: Agreed rating
H13: Comments
H14: Enter your comments about the employee here. Your comments should reflect the accomplishments / barriers /general comments regarding the Key Performance Indicator (KPI)
H20: Midyear Rating | J20: Final Year Rating
B21: Enter the goal category | G21: Weighting | H21: Self rating | I21: Agreed rating | J21: Self rating | K21: Agreed rating
A22: 2
H23: Comments
H24: Enter your comments about the employee here. Your comments should reflect the accomplishments / barriers /general comments regarding the Key Performance Indicator (KPI)
H30: Midyear Rating | J30: Final Year Rating
B31: Enter the goal category | G31: Weighting | H31: Self rating | I31: Agreed rating | J31: Self rating | K31: Agreed rating
A32: 3
H33: Comments
H34: Enter your comments about the employee here. Your comments should reflect the accomplishments / barriers /general comments regarding the Key Performance Indicator (KPI)
H40: Midyear Rating | J40: Final Year Rating
B41: Enter the goal category | G41: Weighting | H41: Self rating | I41: Agreed rating | J41: Self rating | K41: Agreed rating
A42: 4
H43: Comments
H44: Enter your comments about the employee here. Your comments should reflect the accomplishments / barriers /general comments regarding the Key Performance Indicator (KPI)
H50: Midyear Rating | J50: Final Year Rating
B51: Enter the goal category | G51: Weighting | H51: Self rating | I51: Agreed rating | J51: Self rating | K51: Agreed rating
A52: 5
H53: Comments
H54: Enter your comments about the employee here. Your comments should reflect the accomplishments / barriers /general comments regarding the Key Performance Indicator (KPI)
H60: Midyear Rating | J60: Final Year Rating
B61: Enter the goal category | G61: Weighting | H61: Self rating | I61: Agreed rating | J61: Self rating | K61: Agreed rating
A62: 6
H63: Comments
H64: Enter your comments about the employee here. Your comments should reflect the accomplishments / barriers /general comments regarding the Key Performance Indicator (KPI)
H70: Midyear Rating | J70: Final Year Rating
B71: Enter the goal category | G71: Weighting | H71: Self rating | I71: Agreed rating | J71: Self rating | K71: Agreed rating
A72: 7
H73: Comments
H74: Enter your comments about the employee here. Your comments should reflect the accomplishments / barriers /general comments regarding the Key Performance Indicator (KPI)
H80: Midyear Rating | J80: Final Year Rating
B81: Enter the goal category | G81: Weighting | H81: Self rating | I81: Agreed rating | J81: Self rating | K81: Agreed rating
A82: 8
H83: Comments
H84: Enter your comments about the employee here. Your comments should reflect the accomplishments / barriers /general comments regarding the Key Performance Indicator (KPI)
G90: Barriers to Performance
B91: What barriers, limitations or constraints are impacting the employee's ability to perform?
G96: Individual Development Plan
B97: What knowledge, skills and/or experience does the employee require to meet the Goals above?
B102: Additional Employee Comments (Optional)
B111: Additional Manager Comments (Optional)

Sheet my performance contract
A1: My Performance Contract
A3: Employee Name | D3: ='Annual Goals'!D3:F3 -> 0
A4: Employee Number | D4: ='Annual Goals'!D4:F4 -> 0
A5: Job Title | D5: ='Annual Goals'!D5:F5 -> 0
A6: Business Area | D6: ='Annual Goals'!D6:F6 -> 0
A7: Manager Name | D7: ='Annual Goals'!D7:F7 -> 0
A9: Summary Page
A11: Mid Year Rating | H11: Final Year Rating
A12: Goals | D12: Rating | E12: Weight % | F12: Total | H12: Goals | K12: Rating | L12: Weight % | M12: Total
A13: ='Annual Goals'!B12 -> 0 | D13: ='Annual Goals'!I12:I12 -> 0 | E13: ='Annual Goals'!G12 -> 0 | F13: =D13*E13 -> 0 | H13: ='Annual Goals'!B12 -> 0 | K13: ='Annual Goals'!K12 -> 0 | L13: =E13 -> 0 | M13: =K13*L13 -> 0
A14: ='Annual Goals'!B22 -> 0 | D14: ='Annual Goals'!I22 -> 0 | E14: ='Annual Goals'!G22 -> 0 | F14: =D14*E14 -> 0 | H14: ='Annual Goals'!B22 -> 0 | K14: ='Annual Goals'!K22 -> 0 | L14: =E14 -> 0 | M14: =K14*L14 -> 0
A15: ='Annual Goals'!B32 -> 0 | D15: ='Annual Goals'!I32 -> 0 | E15: ='Annual Goals'!G32 -> 0 | F15: =D15*E15 -> 0 | H15: ='Annual Goals'!B32 -> 0 | K15: ='Annual Goals'!K32 -> 0 | L15: =E15 -> 0 | M15: =K15*L15 -> 0
A16: ='Annual Goals'!B42 -> 0 | D16: ='Annual Goals'!I42 -> 0 | E16: ='Annual Goals'!G42 -> 0 | F16: =D16*E16 -> 0 | H16: ='Annual Goals'!B42 -> 0 | K16: ='Annual Goals'!K42 -> 0 | L16: =E16 -> 0 | M16: =K16*L16 -> 0
A17: ='Annual Goals'!B52 -> 0 | D17: ='Annual Goals'!I52 -> 0 | E17: ='Annual Goals'!G52 -> 0 | F17: =D17*E17 -> 0 | H17: ='Annual Goals'!B52 -> 0 | K17: ='Annual Goals'!K52 -> 0 | L17: =E17 -> 0 | M17: =K17*L17 -> 0
A18: ='Annual Goals'!B62 -> 0 | D18: ='Annual Goals'!I62 -> 0 | E18: ='Annual Goals'!G62 -> 0 | F18: =D18*E18 -> 0 | H18: ='Annual Goals'!B62 -> 0 | K18: ='Annual Goals'!K62 -> 0 | L18: =E18 -> 0 | M18: =K18*L18 -> 0
A19: ='Annual Goals'!B72 -> 0 | D19: ='Annual Goals'!I72 -> 0 | E19: ='Annual Goals'!G72 -> 0 | F19: =D19*E19 -> 0 | H19: ='Annual Goals'!B72 -> 0 | K19: ='Annual Goals'!K72 -> 0 | L19: =E19 -> 0 | M19: =K19*L19 -> 0
A20: ='Annual Goals'!B82 -> 0 | D20: ='Annual Goals'!I82 -> 0 | E20: ='Annual Goals'!G82 -> 0 | F20: =D20*E20 -> 0 | H20: ='Annual Goals'!B82 -> 0 | K20: ='Annual Goals'!K82 -> 0 | L20: =E20 -> 0 | M20: =K20*L20 -> 0
A21: Total Score | E21: =SUM(E13:E20) -> 0 | F21: =SUM(F13:F20) -> 0 | H21: Total Score | L21: =SUM(L13:L20) -> 0 | M21: =SUM(M13:M20) -> 0
C23: Mid year rating | F23: =F21 -> 0
C24: Final year rating | F24: =M21 -> 0
C25: Combined Score | F25: =IF(F23=0,F24,IF(F24=0,F23,SUM(F23:F24)/2)) -> 0
C27: After the Moderation process has been concluded, the manager should add the moderated score in the box below.
C30: Final Moderated Score
F32: Signatures
C33: I have reviewed and discussed this performance appraisal and development plan with my manager and have been advised of the assessment level of my performance. My signature below does not imply my agreement with the performance assessment, but rather indicates that the discussion took place and that I was afforded the opportunity to record additional comments, if I so desired.
C36: Manager Signature | J36: Date
C39: Employee Signature | J39: Date

Sheet Rating Scale Definition

Sheet Prep
B5: My Portfolio of Evidence
B6: Goal | C6: Achieved | E6: Examples where demonstrated | F6: Examples where not demonstrated | G6: Comments
C7: Yes | D7: No
B8: ='Annual Goals'!B12:F12 -> 0
B9: ='Annual Goals'!B22:F22 -> 0
B10: ='Annual Goals'!B32:F32 -> 0
B11: ='Annual Goals'!B42:F42 -> 0
B12: ='Annual Goals'!B52:F52 -> 0
B13: ='Annual Goals'!B62:F62 -> 0
B14: ='Annual Goals'!B72:F72 -> 0
B15: ='Annual Goals'!B82:F82 -> 0

Sheet Balanced scorecard perspectives
A1: Financial Perspective
A2: Customer Perspective
A3: Internal Process Perspective
A4: Learning and Growth Perspective

Sheet Sheet1
